BEGIN:VCALENDAR
VERSION:2.0
PRODID:-//Common Roots Rising - ECPv6.15.20//NONSGML v1.0//EN
CALSCALE:GREGORIAN
METHOD:PUBLISH
X-WR-CALNAME:Common Roots Rising
X-ORIGINAL-URL:https://commonrootsrising.org
X-WR-CALDESC:Events for Common Roots Rising
REFRESH-INTERVAL;VALUE=DURATION:PT1H
X-Robots-Tag:noindex
X-PUBLISHED-TTL:PT1H
BEGIN:VTIMEZONE
TZID:America/Chicago
BEGIN:DAYLIGHT
TZOFFSETFROM:-0600
TZOFFSETTO:-0500
TZNAME:CDT
DTSTART:20250309T080000
END:DAYLIGHT
BEGIN:STANDARD
TZOFFSETFROM:-0500
TZOFFSETTO:-0600
TZNAME:CST
DTSTART:20251102T070000
END:STANDARD
BEGIN:DAYLIGHT
TZOFFSETFROM:-0600
TZOFFSETTO:-0500
TZNAME:CDT
DTSTART:20260308T080000
END:DAYLIGHT
BEGIN:STANDARD
TZOFFSETFROM:-0500
TZOFFSETTO:-0600
TZNAME:CST
DTSTART:20261101T070000
END:STANDARD
BEGIN:DAYLIGHT
TZOFFSETFROM:-0600
TZOFFSETTO:-0500
TZNAME:CDT
DTSTART:20270314T080000
END:DAYLIGHT
BEGIN:STANDARD
TZOFFSETFROM:-0500
TZOFFSETTO:-0600
TZNAME:CST
DTSTART:20271107T070000
END:STANDARD
END:VTIMEZONE
BEGIN:VEVENT
DTSTART;TZID=America/Chicago:20260423T183000
DTEND;TZID=America/Chicago:20260423T200000
DTSTAMP:20260425T082127
CREATED:20260319T225527Z
LAST-MODIFIED:20260331T020416Z
UID:10000012-1776969000-1776974400@commonrootsrising.org
SUMMARY:Singing Resistance Fox Cities & Poster Making for 5.1 @ Velvet Fox | Tardigrade's Bookshelf
DESCRIPTION:Join us at Tardigrade’s Bookshelf and The Velvet Fox for a night of RESISTANCE SONG SINGING!We have been graciously invited to open community space at The Velvet Fox on Thursday night at 6:30 PM. PLEASE show your love and support for this generous offering — COME EARLY and order a delectably delicious drink from Tardigrade’s and bring it back to the Velvet Fox to join in poster making and SINGing to prepare for the upcoming NK3 rallies!\n\n\n\nWhat to Bring…\n\n\n\n** If you’re able\, bring a donation for Multicultural Coalition Inc\, helping to support refugee families in our region.\n\n\n\nPlease RSVP to: singing resistance here\n\n\n\nWe are collecting donations for Multicultural Coalition’s Bodega FREE Store in Menasha\n\n\n\n\n\n\n\n\n\n\n\n\n\nBring your donation to help us support  Multicultural Coalition‘s FREE Store in Menasha. MCI currently supports 600 refugee families in our 3 county region with a FREE store twice monthly in Menasha.  \n\n\n\nTheir most needed items include: \n\n\n\n\nrice (white)\,\n\n\n\npinto beans\,\n\n\n\nblack beans\,\n\n\n\ncorn flour\,\n\n\n\ncooking oil\,\n\n\n\ntoothbrushes\,\n\n\n\ntoothpaste\,\n\n\n\ndish soap\,\n\n\n\nbar soap\,\n\n\n\nlaundry detergent\n\n\n\n\nMore Singing Resistance Info!\n\n\n\n\n\n\n\nHave you felt inspired to SING in solidarity with our friends in Minnesota and around the globe?Do you want to raise your voice in a connected\, unified\, heart-led way? \n\n\n\nIf yes\, then join us on March 26th at the Velvet Fox / Tardigrade’s Book Shelf\, 501 N Richmond St Appleton for our 3rd Singing Resistance Fox Cities Info and SING Meeting and MORE Singing! \n\n\n\n\n\n\n\nJoin the MOVEMENT that is SINGING Resistance + Growing LOVE for all\n\n\n\nPlease RSVP to: singing resistance here \n\n\n\nInspired by Singing Resistance Twin Cities\, we are excited and eager to help Singing Resistance Fox Cities find its collective voice as we organize\, mobilize\, and take to the streets\, rallies\, community centers and gatherings\, etc while using the power of our shared voices in music and song to create change and transformation for good. \n\n\n\nMark and I attended a webinar recently with the Singing Resistance team. Around 3000 people attended!! The purpose is to support groups all around the country (and world!) to join the movement in Singing Resistance for a brighter\, better world. \n\n\n\nThe webinar was AMAZING! This team is inspired! organized! and super LOVING and supportive!! They’ve created a toolkit and songbook for all of us to utilize so we can step right into the wave they’ve so beautifully created and ride it right here in the Fox Cities to SING and raise our voices locally! \n\n\n\nThis project will take a village! If you can not attend and you want to get involved and help please follow this link for more information and a link to a form you can fill out and share your interests and get connected into the Singing Resistance Fox Cities movement.Our community sings have been so inspiring. Please attend our community Sing In and informational meeting so we can connect and build momentum toward organizing\, mobilizing\, and of course SINGing!! \n\n\n\nWe will meet on Thursday\, April 23rd at 6:30 PM at the Velvet Fox\, 501 N Richmond St.\n\n\n\nPlease spread the word!\n\n\n\n… and RSVP here >> to singing resistance let us know if you are able to attend. \n\n\n\nSing-In Agenda for April 23rd\n\n\n\nThis Sing-In will be to continue to introduce the Fox Cities to Singing Resistance where we can meet each other\, where we can share info and collectively co-create ideas to share and grow interest and participation … AND!! of course\, we will SING!!Because we LOVE mutual aid and directly helping our communities\, we are inviting you to bring donations that will immediately help our local refugee families in our 3 county area that the Multicultural Coalition supports through their FREE Store in Menasha. \n\n\n\nPlease bring your donations with you to the Velvet Fox\, 501 N Richmond St. Appleton \n\n\n\nIn Heart and Song for Humanity’s Spirit and our Country’s and the World’s Well-Being…Love and Peace\,Savi + Mark
URL:https://commonrootsrising.org/event/community-call-singing-resistance-sing-in-poster-making-nk3/
LOCATION:The Velvet Fox\, 501 N Richmond St\, Appleton\, Wisconsin\, 54911
CATEGORIES:Singing
ATTACH;FMTTYPE=image/jpeg:https://commonrootsrising.org/wp-content/uploads/2026/03/CommUNITY-Singing-Page-Banner.jpg
END:VEVENT
END:VCALENDAR