BEGIN:VCALENDAR
VERSION:2.0
PRODID:-//Common Roots Rising - ECPv6.15.20//NONSGML v1.0//EN
CALSCALE:GREGORIAN
METHOD:PUBLISH
X-WR-CALNAME:Common Roots Rising
X-ORIGINAL-URL:https://commonrootsrising.org
X-WR-CALDESC:Events for Common Roots Rising
REFRESH-INTERVAL;VALUE=DURATION:PT1H
X-Robots-Tag:noindex
X-PUBLISHED-TTL:PT1H
BEGIN:VTIMEZONE
TZID:America/Chicago
BEGIN:DAYLIGHT
TZOFFSETFROM:-0600
TZOFFSETTO:-0500
TZNAME:CDT
DTSTART:20250309T080000
END:DAYLIGHT
BEGIN:STANDARD
TZOFFSETFROM:-0500
TZOFFSETTO:-0600
TZNAME:CST
DTSTART:20251102T070000
END:STANDARD
BEGIN:DAYLIGHT
TZOFFSETFROM:-0600
TZOFFSETTO:-0500
TZNAME:CDT
DTSTART:20260308T080000
END:DAYLIGHT
BEGIN:STANDARD
TZOFFSETFROM:-0500
TZOFFSETTO:-0600
TZNAME:CST
DTSTART:20261101T070000
END:STANDARD
BEGIN:DAYLIGHT
TZOFFSETFROM:-0600
TZOFFSETTO:-0500
TZNAME:CDT
DTSTART:20270314T080000
END:DAYLIGHT
BEGIN:STANDARD
TZOFFSETFROM:-0500
TZOFFSETTO:-0600
TZNAME:CST
DTSTART:20271107T070000
END:STANDARD
END:VTIMEZONE
BEGIN:VEVENT
DTSTART;TZID=America/Chicago:20260418T140000
DTEND;TZID=America/Chicago:20260418T150000
DTSTAMP:20260424T130731
CREATED:20260324T181730Z
LAST-MODIFIED:20260324T191931Z
UID:10000019-1776520800-1776524400@commonrootsrising.org
SUMMARY:Free Store | Oshkosh Vagabond Network
DESCRIPTION:The Oshkosh Vagabond Network is popping up another Free Store at Opera House Square\, Downtown Oshkosh starting at 2 pm at the Sundial.  Everything is Free.  Bring your donations to the Peaceful Patriots rally at the Sundial starting at Noon.
URL:https://commonrootsrising.org/event/free-store-oshkosh-vagabond-network/
LOCATION:Opera House Square\, 315 N Main St\, Oshkosh\, Wisconsin\, 54901\, United States
CATEGORIES:Mutual Aid
ATTACH;FMTTYPE=image/png:https://commonrootsrising.org/wp-content/uploads/2026/03/Screenshot-2026-03-24-at-1.13.12-PM.png
ORGANIZER;CN="Oshkosh Vagabond Network":MAILTO:oshkoshvagabondnetwork@gmail.com
END:VEVENT
BEGIN:VEVENT
DTSTART;TZID=America/Chicago:20260411T100000
DTEND;TZID=America/Chicago:20260411T120000
DTSTAMP:20260424T130731
CREATED:20260331T024502Z
LAST-MODIFIED:20260410T132952Z
UID:10000027-1775901600-1775908800@commonrootsrising.org
SUMMARY:Politics in the Park! Theme: Local
DESCRIPTION:Politics in the Park is back for spring!We’re kicking off a new season and trying something new. \n\n\n\n\n\n\n\nEach week\, we’ll share a one-word prompt to spark conversation in our community. Think of it as a starting point: bring your own questions\, your own take\, your own topics. The prompt is just the seed\, you grow the discussion. \n\n\n\nApril’s prompts:Week 1: LocalWeek 2: EducationWeek 3: (off week)Week 4: Justice \n\n\n\nThis season we’re going deeper\, not wider. Instead of being out every day\, we’ll be at the parks twice a week\, giving us more time to develop new programs while still keeping the conversation going. You might also catch us at pop-up events and other community gatherings around Oshkosh.Week 1: Local \n\n\n\nAnd we’re not just talking about local government. Let’s talk about local media. Local problems. Local solutions. Whatever local means to you\, bring it.
URL:https://commonrootsrising.org/event/politics-in-the-park-2/
LOCATION:Opera House Square\, 315 N Main St\, Oshkosh\, Wisconsin\, 54901\, United States
CATEGORIES:Civic Engagement
ATTACH;FMTTYPE=image/jpeg:https://commonrootsrising.org/wp-content/uploads/2026/03/Screenshot-2026-03-24-at-8.40.14-AM.jpg
END:VEVENT
BEGIN:VEVENT
DTSTART;TZID=America/Chicago:20260407T160000
DTEND;TZID=America/Chicago:20260407T180000
DTSTAMP:20260424T130731
CREATED:20260331T023649Z
LAST-MODIFIED:20260406T133157Z
UID:10000026-1775577600-1775584800@commonrootsrising.org
SUMMARY:Politics in the Park! Theme: Local
DESCRIPTION:Politics in the Park is back for spring!We’re kicking off a new season and trying something new. \n\n\n\n\n\n\n\nEach week\, we’ll share a one-word prompt to spark conversation in our community. Think of it as a starting point: bring your own questions\, your own take\, your own topics. The prompt is just the seed\, you grow the discussion. \n\n\n\nApril’s prompts:Week 1: LocalWeek 2: EducationWeek 3: (off week)Week 4: Justice \n\n\n\nThis season we’re going deeper\, not wider. Instead of being out every day\, we’ll be at the parks twice a week\, giving us more time to develop new programs while still keeping the conversation going. You might also catch us at pop-up events and other community gatherings around Oshkosh.Week 1: Local \n\n\n\nApril 7th is Election Day and it felt right to come back with Local as our first prompt. Get out and vote\, then stop by Opera House Square to keep the conversation going. \n\n\n\nAnd we’re not just talking about local government. Let’s talk about local media. Local problems. Local solutions. Whatever local means to you\, bring it.
URL:https://commonrootsrising.org/event/politics-in-the-park/
LOCATION:Opera House Square\, 315 N Main St\, Oshkosh\, Wisconsin\, 54901\, United States
CATEGORIES:Community Action,Education
ATTACH;FMTTYPE=image/jpeg:https://commonrootsrising.org/wp-content/uploads/2026/03/Screenshot-2026-03-24-at-8.40.14-AM.jpg
END:VEVENT
BEGIN:VEVENT
DTSTART;TZID=America/Chicago:20260314T130000
DTEND;TZID=America/Chicago:20260314T140000
DTSTAMP:20260424T130731
CREATED:20260307T233732Z
LAST-MODIFIED:20260308T001418Z
UID:10000011-1773493200-1773496800@commonrootsrising.org
SUMMARY:Singing Resistance with Peaceful Patriots  | Pi Day Rally 3.14
DESCRIPTION:Singing Resistance Fox Cities is joining Peaceful Patriots in Oshkosh to sing and celebrate and eat pie for Pi Day!\n\n\n\nSinging Resistance Fox Cities will be at Opera House Square ready to sing at 1:00 pm. You can join Peaceful Patriots starting at Noon to get a start on the fun! We will sing the songs that Singing Resistance Minneapolis has been singing. Come Sing and practice the Singing Resistance songs with us.  Peaceful Patriots is a welcoming group of people that have been rallying in Oshkosh every Saturday for the past year.   \n\n\n\nFor more about Singing Resistance Fox Cities please visit this link.  And\, if you want to help us grow Singing Resistance Fox Cities fill out this form please click here \n\n\n\nFor more about Peaceful Patriots check out their website here and the Pi Day Rally Facebook Event here
URL:https://commonrootsrising.org/event/singing-resistance-with-peaceful-patriots-pi-day-rally-3-14/
LOCATION:Opera House Square\, 315 N Main St\, Oshkosh\, Wisconsin\, 54901\, United States
CATEGORIES:Community Action,Singing
ATTACH;FMTTYPE=image/jpeg:https://commonrootsrising.org/wp-content/uploads/2026/03/CommUNITY-Singing-Page-Banner.jpg
END:VEVENT
END:VCALENDAR