BEGIN:VCALENDAR
VERSION:2.0
PRODID:-//Common Roots Rising - ECPv6.15.20//NONSGML v1.0//EN
CALSCALE:GREGORIAN
METHOD:PUBLISH
X-ORIGINAL-URL:https://commonrootsrising.org
X-WR-CALDESC:Events for Common Roots Rising
REFRESH-INTERVAL;VALUE=DURATION:PT1H
X-Robots-Tag:noindex
X-PUBLISHED-TTL:PT1H
BEGIN:VTIMEZONE
TZID:America/Chicago
BEGIN:DAYLIGHT
TZOFFSETFROM:-0600
TZOFFSETTO:-0500
TZNAME:CDT
DTSTART:20250309T080000
END:DAYLIGHT
BEGIN:STANDARD
TZOFFSETFROM:-0500
TZOFFSETTO:-0600
TZNAME:CST
DTSTART:20251102T070000
END:STANDARD
BEGIN:DAYLIGHT
TZOFFSETFROM:-0600
TZOFFSETTO:-0500
TZNAME:CDT
DTSTART:20260308T080000
END:DAYLIGHT
BEGIN:STANDARD
TZOFFSETFROM:-0500
TZOFFSETTO:-0600
TZNAME:CST
DTSTART:20261101T070000
END:STANDARD
BEGIN:DAYLIGHT
TZOFFSETFROM:-0600
TZOFFSETTO:-0500
TZNAME:CDT
DTSTART:20270314T080000
END:DAYLIGHT
BEGIN:STANDARD
TZOFFSETFROM:-0500
TZOFFSETTO:-0600
TZNAME:CST
DTSTART:20271107T070000
END:STANDARD
END:VTIMEZONE
BEGIN:VEVENT
DTSTART;TZID=America/Chicago:20260412T080000
DTEND;TZID=America/Chicago:20260412T170000
DTSTAMP:20260424T143328
CREATED:20260412T191630Z
LAST-MODIFIED:20260412T191631Z
UID:10000042-1775980800-1776013200@commonrootsrising.org
SUMMARY:Celebrate Arbor Day @ Jefferson Park
DESCRIPTION:Menasha Parks and Rec is giving you a very good excuse to play in the dirt. \n\n\n\nArbor Day is on Friday\, April 24 and we’re celebrating with a tree planting event that’s fun for the whole community— kids\, adults\, and anyone who’s ever wanted to leave their mark on this community. \n\n\n\n Come plant a tree \n\n\n\n Learn what makes our urban forest so important \n\n\n\n Meet your neighbors \n\n\n\n Get your hands a little dirty \n\n\n\nFriday\, April 24 \n\n\n\n9:00am \n\n\n\nJefferson Park
URL:https://commonrootsrising.org/event/celebrate-arbor-day-jefferson-park/
LOCATION:Jefferson Park\, 915 Third St\, Menasha\, Wisconsin\, 54911\, United States
CATEGORIES:Environment
ATTACH;FMTTYPE=image/jpeg:https://commonrootsrising.org/wp-content/uploads/2026/04/Screenshot-2026-04-12-at-2.09.29-PM.jpg
END:VEVENT
END:VCALENDAR