BEGIN:VCALENDAR
VERSION:2.0
PRODID:-//Common Roots Rising - ECPv6.15.20//NONSGML v1.0//EN
CALSCALE:GREGORIAN
METHOD:PUBLISH
X-ORIGINAL-URL:https://commonrootsrising.org
X-WR-CALDESC:Events for Common Roots Rising
REFRESH-INTERVAL;VALUE=DURATION:PT1H
X-Robots-Tag:noindex
X-PUBLISHED-TTL:PT1H
BEGIN:VTIMEZONE
TZID:America/Chicago
BEGIN:DAYLIGHT
TZOFFSETFROM:-0600
TZOFFSETTO:-0500
TZNAME:CDT
DTSTART:20250309T080000
END:DAYLIGHT
BEGIN:STANDARD
TZOFFSETFROM:-0500
TZOFFSETTO:-0600
TZNAME:CST
DTSTART:20251102T070000
END:STANDARD
BEGIN:DAYLIGHT
TZOFFSETFROM:-0600
TZOFFSETTO:-0500
TZNAME:CDT
DTSTART:20260308T080000
END:DAYLIGHT
BEGIN:STANDARD
TZOFFSETFROM:-0500
TZOFFSETTO:-0600
TZNAME:CST
DTSTART:20261101T070000
END:STANDARD
BEGIN:DAYLIGHT
TZOFFSETFROM:-0600
TZOFFSETTO:-0500
TZNAME:CDT
DTSTART:20270314T080000
END:DAYLIGHT
BEGIN:STANDARD
TZOFFSETFROM:-0500
TZOFFSETTO:-0600
TZNAME:CST
DTSTART:20271107T070000
END:STANDARD
END:VTIMEZONE
BEGIN:VEVENT
DTSTART;TZID=America/Chicago:20260513T110000
DTEND;TZID=America/Chicago:20260513T130000
DTSTAMP:20260424T162808
CREATED:20260416T131102Z
LAST-MODIFIED:20260416T131105Z
UID:10000047-1778670000-1778677200@commonrootsrising.org
SUMMARY:Walk in Wednesday | Multicultural Coalition
DESCRIPTION:Walk In Wednesdays + Bodega Free Store\n\n\n\nA bodega is a convenient little corner shop\, and Multicultural Coalition’s  is free to the community.   Walk In Wednesdays happen 2x per month  \n\n\n\nMulticultural Coalition333 1st Suite D St Menasha\, WI \n\n\n\n\n\n\n\nMulticultural Coalition\, a 501c3\, is here to serve our community members and provides access to basic needs while also addressing ways we can do better as a community to overcome language\, systems\, transportation\, employment\, housing and other barriers as identified by those we serve. \n\n\n\nMCI pulls together a vast network of trusted community members and organizations to meet people where they are. We are part of a growing community network to meet the needs of the people through action\, social connectedness and trust … where and how each person experiences belonging.  \n\n\n\nThrough our in-person support and navigation\, we strive to create a sense of safety\, connection and belonging. Now more than ever\, many individuals face loneliness\, isolation and complex challenges. We recognize these struggles and are here to support each person on their journey.
URL:https://commonrootsrising.org/event/walk-in-wednesday-multicultural-coalition-2/
LOCATION:Multicultural Coalition\, 333 1st st\, Menasha\, Wisconsin\, 54952\, United States
CATEGORIES:Mutual Aid
ATTACH;FMTTYPE=image/png:https://commonrootsrising.org/wp-content/uploads/2026/04/Screenshot-2026-04-16-at-7.54.08-AM.png
END:VEVENT
BEGIN:VEVENT
DTSTART;TZID=America/Chicago:20260516T140000
DTEND;TZID=America/Chicago:20260516T150000
DTSTAMP:20260424T162808
CREATED:20260416T133823Z
LAST-MODIFIED:20260416T133826Z
UID:10000051-1778940000-1778943600@commonrootsrising.org
SUMMARY:Free Store | Oshkosh Vagabond Network
DESCRIPTION:The Oshkosh Vagabond Network is popping up another Free Store at Opera House Square\, Downtown Oshkosh starting at 2 pm at the Sundial. Everything is Free. Bring your donations to the Peaceful Patriots rally at the Sundial starting at Noon.
URL:https://commonrootsrising.org/event/free-store-oshkosh-vagabond-network-2/
LOCATION:Opera House Square\, 315 N Main St\, Oshkosh\, Wisconsin\, 54901\, United States
CATEGORIES:Mutual Aid
ATTACH;FMTTYPE=image/png:https://commonrootsrising.org/wp-content/uploads/2026/03/Screenshot-2026-03-24-at-1.13.12-PM.png
ORGANIZER;CN="Oshkosh Vagabond Network":MAILTO:oshkoshvagabondnetwork@gmail.com
END:VEVENT
BEGIN:VEVENT
DTSTART;TZID=America/Chicago:20260517T103000
DTEND;TZID=America/Chicago:20260517T114500
DTSTAMP:20260424T162808
CREATED:20260323T020140Z
LAST-MODIFIED:20260328T031518Z
UID:10000015-1779013800-1779018300@commonrootsrising.org
SUMMARY:Soul Sound Journey with Savi + Mark | Sound Alchemy for Mind\, Body\, Spirit
DESCRIPTION:Journey with us! Rest. Reset. Restore.Soothing Sunday Soul Sound Journeys … your soul is calling. \n\n\n\nWe invite you to experience how intentionally crafted sound vibrations can give you a restful and revitalizing restorative reset. Come be cocooned in resonant waves of sonic vibrations created and inspired in the moment.  \n\n\n\nPlease Pre – Register HERE. PRE – REGISTRATION appreciated due to event popularity and space availability. \n\n\n\n\n\nSavi and Mark\, your Loving Awareness Soul Sound Journey guides\, tune into the collective energy of those present to deliver a unique and immersive soundscape — bringing a field of nurturing love and healing alive in the most felt\, balancing\, and beautiful ways. \n\n\n\nImmerse Yourself in a sonic river of healing\, an ocean love with waves and waves of resonating frequency that soothe\, calm\, aid in gentle release\, and support inner peace\, balance\, and transformation. \n\n\n\nMark and Savi are seasoned Conscious Experience Guides who know how to create and hold sacred space for souls to embody authentically\, while allowing rest\, reset\, and restoration from within. \n\n\n\nSoul Sound Journeys with Savi and Mark are one of a kind (and never the same thing twice!)\, featuring a unique synergy of the following: \n\n\n\nHandpan\, Tibetan\, crystal\, and Origin Series singing bowls\, overtone flute\, drone flutes\, ocarina (clay flute)\, Nepalese bells\, Koshi chimes\, metallophones\, seed rattles\, medicine drums\, vibrational drones and harmonium\, sounding breath\, nature sounds\, intuited Light Language\, and vocal toning\, singing\, and more… \n\n\n\nAllow yourself to rest\, reset\, and restore as you receive the waves of vibrational sound medicine. \n\n\n\nThe journey comes full circle with some moments of peaceful silence before being gently guided back into the waking moment\, allowing time for reflection and integration. \n\n\n\nWhat To Bring: \n\n\n\nAnything that will support you in feeling comfy\, cozy\, and cocooned during the journey! \n\n\n\nSuggestions are: \n\n\n\n\nYoga Mat\, other thicker mat\n\n\n\nBlanket(s)\n\n\n\nPillow(s)\n\n\n\nSocks/Slippers\n\n\n\nEye Mask (if you want to block light\, totally optional\, listen to your inner guidance)\n\n\n\nWater bottle\n\n\n\n\nWhat to Expect: \n\n\n\n\nThe full journey from start to finish will be 75 minutes\, including introduction at the beginning and integration/reflection time at the end\n\n\n\nWe are a shoes off gathering space\, please feel free to bring slippers or cozy socks\n\n\n\nYou will be invited to lie down during the sound journey\, and you are welcome to change positions at any time for comfort. \n\n\n\nOther familiar terms you may have heard for experiences like this can be: sound bath\, sound healing\, sound therapy\, etc. We choose Soul Sound Journey and Sound Alchemy for our unique experience as it is a transformative sound vibration fusion of intuitive\, indigenous\, and ancient\, ancestral sounds and vocalizations that ‘speak to the soul’.\n\n\n\n\nWe look forward to journeying into the alchemy of sound with you! \n\n\n\nWant to Schedule a Private Group Soul Sound Journey? \n\n\n\nTo book a private Soul Sound Journey for your special group\, please reach out: \n\n\n\nconnect@beingcollective.us  \n\n\n\nPlease Pre – Register HERE. PRE – REGISTRATION appreciated due to event popularity and space availability.
URL:https://commonrootsrising.org/event/soul-sound-journey-with-savi-mark-sound-alchemy-for-mind-body-spirit/
LOCATION:Being Collective\, 109 S Appleton St\, Appleton\, WI\, 54911\, United States
CATEGORIES:Music,WellBeing
ATTACH;FMTTYPE=image/jpeg:https://commonrootsrising.org/wp-content/uploads/2026/03/Screenshot-2025-03-26-at-1.57.02-PM.jpg
END:VEVENT
BEGIN:VEVENT
DTSTART;TZID=America/Chicago:20260517T140000
DTEND;TZID=America/Chicago:20260517T170000
DTSTAMP:20260424T162808
CREATED:20260418T130309Z
LAST-MODIFIED:20260418T130423Z
UID:10000053-1779026400-1779037200@commonrootsrising.org
SUMMARY:Pasture Season Kick Off Party 2026 edition
DESCRIPTION:Welcome to the Pasture Season Kick Off Party! \n\n\n\n\n\n\n\nCome join us at Bouressa Family Farm for a fun-filled event to celebrate the start of the pasture season. Get ready for a day of fun with the farm babies\, delicious food\, and great company!New \n\n\n\nWhether you’re a regular at the farm or a first-time visitor\, this event is FUN for everyone. Enjoy the excitement of cows on grass\, hay rides\, petting zoo with the CUTEST baby farm animals\, live music\, and even back again this year… COW PIE BINGO!!! It’s a fantastic way to kick off the season and make some new memories on the farm. \n\n\n\nDon’t miss out on the chance to be part of this exciting day at Bouressa Family Farm. Grab your friends and family\, and let’s make this Pasture Season Kick Off Party one to remember!
URL:https://commonrootsrising.org/event/pasture-season-kick-off-party-2026-edition/
LOCATION:Bouressa Family Farm\, N3775 Ritchie Rd
CATEGORIES:Festival
ATTACH;FMTTYPE=image/jpeg:https://commonrootsrising.org/wp-content/uploads/2026/04/Screenshot-2026-04-18-at-7.56.14-AM.jpg
END:VEVENT
END:VCALENDAR