BEGIN:VCALENDAR
VERSION:2.0
PRODID:-//Common Roots Rising - ECPv6.15.20//NONSGML v1.0//EN
CALSCALE:GREGORIAN
METHOD:PUBLISH
X-WR-CALNAME:Common Roots Rising
X-ORIGINAL-URL:https://commonrootsrising.org
X-WR-CALDESC:Events for Common Roots Rising
REFRESH-INTERVAL;VALUE=DURATION:PT1H
X-Robots-Tag:noindex
X-PUBLISHED-TTL:PT1H
BEGIN:VTIMEZONE
TZID:America/Chicago
BEGIN:DAYLIGHT
TZOFFSETFROM:-0600
TZOFFSETTO:-0500
TZNAME:CDT
DTSTART:20250309T080000
END:DAYLIGHT
BEGIN:STANDARD
TZOFFSETFROM:-0500
TZOFFSETTO:-0600
TZNAME:CST
DTSTART:20251102T070000
END:STANDARD
BEGIN:DAYLIGHT
TZOFFSETFROM:-0600
TZOFFSETTO:-0500
TZNAME:CDT
DTSTART:20260308T080000
END:DAYLIGHT
BEGIN:STANDARD
TZOFFSETFROM:-0500
TZOFFSETTO:-0600
TZNAME:CST
DTSTART:20261101T070000
END:STANDARD
BEGIN:DAYLIGHT
TZOFFSETFROM:-0600
TZOFFSETTO:-0500
TZNAME:CDT
DTSTART:20270314T080000
END:DAYLIGHT
BEGIN:STANDARD
TZOFFSETFROM:-0500
TZOFFSETTO:-0600
TZNAME:CST
DTSTART:20271107T070000
END:STANDARD
END:VTIMEZONE
BEGIN:VEVENT
DTSTART;TZID=America/Chicago:20260508T183000
DTEND;TZID=America/Chicago:20260508T200000
DTSTAMP:20260424T162648
CREATED:20260324T201210Z
LAST-MODIFIED:20260324T201213Z
UID:10000023-1778265000-1778270400@commonrootsrising.org
SUMMARY:Community Singing! Brilliant Bliss Mantra Music | Kirtan
DESCRIPTION:When we sing in harmony together it just plain feels GOOD! AND… it creates a unified field of purpose\, power\, and love that amplifies our connection and collective presence. Come raise your voices in song with us! \n\n\n\n\n\nPlease Register HERE \n\n\n\nSinging together helps! It helps to give emotions a safe channel for release\, it helps to uplift our tired spirits and renew our souls\, it opens the heart and calms the mind\, it creates a deeper sense of belonging and unified connection\, it brings inner-harmony. Come sing with us! We need this!! \n\n\n\nSACRED SOUND MEDICINE FOR HEART AND SOUL ~ SING . LISTEN . BREATHE . CONNECT . BE .\n\n\n\nThese gatherings of singing ancient mantras + conscious lyrics are heart + soul medicine that support us now more than ever. Let’s GO! We need this!!You don’t have to be a singer to join us … the collective voice creates a brilliantly beautiful sound that heals the heart and uplifts the spirit! Come! \n\n\n\nAbout Our CommUNITY Mantra Music Journeys\n\n\n\nDid you know that singing in community can increase inner-peace\, uplift your mind\, open your heart + leave you feeling more connected\, centered\, and alive? \n\n\n\nJoin our Family Band — Savi\, Mark\, Deann\, Denise\, Eliana + soul family friends — for an evening of Brilliant Bliss: a participatory\, co-creative music + sound healing journey. \n\n\n\nKarli from the amazing local duo\, Natural Satellite\, will be joining us on cello. \n\n\n\nCome sing with us\, rock your body\, dance if the mood arises\, and bask in the ocean of sacred sounds and heart connection with soul family. \n\n\n\nNot a singer? No problem! Come and immerse in the sound current and BE. \n\n\n\nBrilliant Bliss Mantra Music is sacred sound medicine for heart & soul\, weaving high vibe conscious lyrics\, ancient mantras\, and earthy-cosmic grooves that embrace\, uplift\, empower & elevate! \n\n\n\nThe most important part of the band is…YOU! \n\n\n\nIt’s YOUR Presence and open heart that co-create the magic that unfolds. \n\n\n\nPlease Register HERE \n\n\n\nTHANK YOU FOR CHOOSING TO JOIN US FOR THIS COLLECTIVE SOUL-ENRICHING EXPERIENCE!\n\n\n\nWhat to Bring — \n\n\n\nParking: available in the ramp behind our building \n\n\n\nPLEASE BRING for your comfort: \n\n\n\nCushion/pillow + blanket for floor seating\, if you prefer this. We have chairs available if you prefer not to sit on the floor. \n\n\n\nWater bottle with sealable cap \n\n\n\nPlease Register HERE \n\n\n\nFlexible pricing for this event!Please choose the ticket price that works the best for you.Cash or Venmo option also available at the door. If not pre-purchasing a ticket please email us ahead of the event to let us know you will be joining us. connect@beingcollective.us.Thanks for your support!
URL:https://commonrootsrising.org/event/community-singing-brilliant-bliss-mantra-music-kirtan-3/
LOCATION:Being Collective\, 109 S Appleton St\, Appleton\, WI\, 54911\, United States
CATEGORIES:Music,Singing
ATTACH;FMTTYPE=image/jpeg:https://commonrootsrising.org/wp-content/uploads/2026/02/Screenshot-2026-02-06-at-10.04.20-AM.jpg
END:VEVENT
BEGIN:VEVENT
DTSTART;TZID=America/Chicago:20260509T090000
DTEND;TZID=America/Chicago:20260509T120000
DTSTAMP:20260424T162648
CREATED:20260327T173257Z
LAST-MODIFIED:20260406T125229Z
UID:10000024-1778317200-1778328000@commonrootsrising.org
SUMMARY:Doty Park Volunteer Planting Event
DESCRIPTION:Meet in the Whiting Boathouse Parking Lot – 98 5th st. Neenah \n\n\n\nHelp make a difference in our community and along the waterways!  The City of Neenah Parks and Rec in partnership with the Fox-Wolf Watershed Alliance and Doty Island Community Partners\, invites you to a Volunteer Planting Event at Doty Park. \n\n\n\nThis hands-on event will focus on planting native vegetation along the shoreline to improve water quality\, reduce erosion\, and create habitat for wildlife.  Whether you’re a seasoned gardener or just looking to give back\, your efforts are greatly appreciated and will help protect the Fox-Wolf Watershed\, and enhance the beauty of Doty Park. \n\n\n\nWhat to Bring: \n\n\n\n\ncomfortable outdoor clothing and sturdy shoes\n\n\n\ngardening gloves\n\n\n\nhand trowel/small spade shovel\n\n\n\na positive attitude and willingness to dig in!\n\n\n\n\nWhy it Matters: \n\n\n\nNative plants play a vital role in filtering runoff\, stabilizing soil\, and supporting pollinators.  By volunteering\, you’re contributing to a healthier ecosystem for generations to come. \n\n\n\n\nClick here to sign up to volunteer
URL:https://commonrootsrising.org/event/doty-park-volunteer-planting-event/
LOCATION:Doty Park\, 701 Lincoln St\, Neenah\, Wisconsin\, 54956
CATEGORIES:Community Action,Environment
ATTACH;FMTTYPE=image/avif:https://commonrootsrising.org/wp-content/uploads/2026/03/c8705d_0ae8f4c643434b5f8f004a0827d90a1fmv2.avif
END:VEVENT
BEGIN:VEVENT
DTSTART;TZID=America/Chicago:20260510T120000
DTEND;TZID=America/Chicago:20260510T140000
DTSTAMP:20260424T162649
CREATED:20260412T023503Z
LAST-MODIFIED:20260412T023506Z
UID:10000039-1778414400-1778421600@commonrootsrising.org
SUMMARY:Touring Sunday - Neenah w/ Peaceful Patriots
DESCRIPTION:Meet at the Statue of Liberty. Bring American flags\, signs\, and friends. \n\n\n\nHappy Mother’s Day!
URL:https://commonrootsrising.org/event/touring-sunday-neenah-w-peaceful-patriots/
LOCATION:Wisconsin
CATEGORIES:Community Action
ATTACH;FMTTYPE=image/jpeg:https://commonrootsrising.org/wp-content/uploads/2026/04/Screenshot-2026-04-11-at-9.27.46-PM.jpg
END:VEVENT
END:VCALENDAR