BEGIN:VCALENDAR
VERSION:2.0
PRODID:-//Common Roots Rising - ECPv6.15.20//NONSGML v1.0//EN
CALSCALE:GREGORIAN
METHOD:PUBLISH
X-ORIGINAL-URL:https://commonrootsrising.org
X-WR-CALDESC:Events for Common Roots Rising
REFRESH-INTERVAL;VALUE=DURATION:PT1H
X-Robots-Tag:noindex
X-PUBLISHED-TTL:PT1H
BEGIN:VTIMEZONE
TZID:America/Chicago
BEGIN:DAYLIGHT
TZOFFSETFROM:-0600
TZOFFSETTO:-0500
TZNAME:CDT
DTSTART:20250309T080000
END:DAYLIGHT
BEGIN:STANDARD
TZOFFSETFROM:-0500
TZOFFSETTO:-0600
TZNAME:CST
DTSTART:20251102T070000
END:STANDARD
BEGIN:DAYLIGHT
TZOFFSETFROM:-0600
TZOFFSETTO:-0500
TZNAME:CDT
DTSTART:20260308T080000
END:DAYLIGHT
BEGIN:STANDARD
TZOFFSETFROM:-0500
TZOFFSETTO:-0600
TZNAME:CST
DTSTART:20261101T070000
END:STANDARD
BEGIN:DAYLIGHT
TZOFFSETFROM:-0600
TZOFFSETTO:-0500
TZNAME:CDT
DTSTART:20270314T080000
END:DAYLIGHT
BEGIN:STANDARD
TZOFFSETFROM:-0500
TZOFFSETTO:-0600
TZNAME:CST
DTSTART:20271107T070000
END:STANDARD
END:VTIMEZONE
BEGIN:VEVENT
DTSTART;TZID=America/Chicago:20260407T160000
DTEND;TZID=America/Chicago:20260407T180000
DTSTAMP:20260424T143213
CREATED:20260331T023649Z
LAST-MODIFIED:20260406T133157Z
UID:10000026-1775577600-1775584800@commonrootsrising.org
SUMMARY:Politics in the Park! Theme: Local
DESCRIPTION:Politics in the Park is back for spring!We’re kicking off a new season and trying something new. \n\n\n\n\n\n\n\nEach week\, we’ll share a one-word prompt to spark conversation in our community. Think of it as a starting point: bring your own questions\, your own take\, your own topics. The prompt is just the seed\, you grow the discussion. \n\n\n\nApril’s prompts:Week 1: LocalWeek 2: EducationWeek 3: (off week)Week 4: Justice \n\n\n\nThis season we’re going deeper\, not wider. Instead of being out every day\, we’ll be at the parks twice a week\, giving us more time to develop new programs while still keeping the conversation going. You might also catch us at pop-up events and other community gatherings around Oshkosh.Week 1: Local \n\n\n\nApril 7th is Election Day and it felt right to come back with Local as our first prompt. Get out and vote\, then stop by Opera House Square to keep the conversation going. \n\n\n\nAnd we’re not just talking about local government. Let’s talk about local media. Local problems. Local solutions. Whatever local means to you\, bring it.
URL:https://commonrootsrising.org/event/politics-in-the-park/
LOCATION:Opera House Square\, 315 N Main St\, Oshkosh\, Wisconsin\, 54901\, United States
CATEGORIES:Community Action,Education
ATTACH;FMTTYPE=image/jpeg:https://commonrootsrising.org/wp-content/uploads/2026/03/Screenshot-2026-03-24-at-8.40.14-AM.jpg
END:VEVENT
BEGIN:VEVENT
DTSTART;TZID=America/Chicago:20260409T183000
DTEND;TZID=America/Chicago:20260409T200000
DTSTAMP:20260424T143213
CREATED:20260302T220353Z
LAST-MODIFIED:20260328T023049Z
UID:10000010-1775759400-1775764800@commonrootsrising.org
SUMMARY:Community Call: Raise Your Voice | Singing Resistance Fox Cities
DESCRIPTION:Have you felt inspired to SING in solidarity with our friends in Minnesota and around the globe?Do you want to raise your voice in a connected\, unified\, heart-led way? \n\n\n\nIf yes\, then join us on April 9th at Being Collective for Singing Resistance Fox Cities Sing In || SING Meeting and MORE Singing! \n\n\n\nWe are collecting donations for Multicultural Coalition’s free store in Menasha\n\n\n\n\nBring Your Donations for the Bodaga FREE STORE Click HERE list of needs (PDF) \n\n\n\n\n\n\nJoin the MOVEMENT that is SINGING Resistance + Growing LOVE for all\n\n\n\nPlease RSVP to: singing resistance here \n\n\n\nInspired by Singing Resistance Twin Cities\, we are excited and eager to help Singing Resistance Fox Cities find its collective voice as we organize\, mobilize\, and take to the streets\, rallies\, community centers and gatherings\, etc while using the power of our shared voices in music and song to create change and transformation for good. \n\n\n\nMark and I attended a webinar recently with the Singing Resistance team. Around 3000 people attended!! The purpose is to support groups all around the country (and world!) to join the movement in Singing Resistance for a brighter\, better world. \n\n\n\nThe webinar was AMAZING! This team is inspired! organized! and super LOVING and supportive!! They’ve created a toolkit and songbook for all of us to utilize so we can step right into the wave they’ve so beautifully created and ride it right here in the Fox Cities to SING and raise our voices locally! \n\n\n\nThis project will take a village!  If you can not attend on March 19th (and also unavailable on 3.14 for our Oshkosh rally) and you want to get involved and help please follow this link for more information and a link to a form you can fill out and share your interests and get connected into the Singing Resistance Fox Cities movement.Our first community sing on March 5th was so inspiring.  Please attend our 2nd community sing and informational meeting so we can connect and build momentum toward organizing\, mobilizing\, and of course SINGing!!   If you can’t wait for March 19th we will also be singing at Opera House Square on 3.14 with Peaceful Patriots at 1 pm and rallying for Pi Day.  3.14 Pi Day Peaceful Patriots Details HERE. If you like FREE Pie and fun\, welcoming people this event is for you.  \n\n\n\nWe will meet on  April 9th at 6:30 PM at Being Collective. * Note: Being Collective is a shoes off in the gathering space wellBEing center on the 2nd floor at 109 S. Appleton St. Downtown Appleton.\n\n\n\nPlease spread the word!\n\n\n\n… and RSVP here >> to singing resistance let us know if you are able to attend. \n\n\n\nMeeting Agenda for April 9th\n\n\n\nThis meeting will be to continue to introduce the Fox Cities to Singing Resistance where we can meet each other\, where we can share info and collectively co-create ideas to share and grow interest and participation … AND!! of course\, we will SING!!And\, because be we LOVE mutual aid and directly helping our communities\, we are inviting you to bring donations that will directly help our local refugee families in our 3 county area that the Multicultural Coalition supports through their FREE Store in Menasha. \n\n\n\nDonation Collections | Bodega FREE Store in Menasha\n\n\n\n\n\n\n\nWe will be collecting donations for Multicultural Coalition‘s FREE Store in Menasha. the Multicultural Coalition currently supports 600 refugee families in our 3 county region with a FREE store twice monthly in Menasha.  \n\n\n\nTheir most needed items include:   \n\n\n\n \n\n\n\n\nrice (white)\, \n\n\n\npinto beans\, \n\n\n\nblack beans\, \n\n\n\ncorn flour\, \n\n\n\ncooking oil\, \n\n\n\ntoothbrushes\, \n\n\n\ntoothpaste\, \n\n\n\ndish soap\, \n\n\n\nbar soap\, \n\n\n\nlaundry detergent.  \n\n\n\n\n \n\n\n\nPlease bring your donations with you to Being Collective\, 109 S Appleton St.  \n\n\n\n\nClick HERE for Donation Needs for Multicultural Coalition doc (PDF)\n\n\n\n\nIn Heart and Song for Humanity’s Spirit and our Country’s and the World’s Well-Being…Love and Peace\,Savi + Mark
URL:https://commonrootsrising.org/event/community-call-raise-your-voice-singing-resistance-fox-cities-2/
LOCATION:Being Collective\, 109 S Appleton St\, Appleton\, WI\, 54911\, United States
CATEGORIES:Community Action
ATTACH;FMTTYPE=image/jpeg:https://commonrootsrising.org/wp-content/uploads/2026/03/Copy-of-FINAL-COVER-SR-Meeting-March-5-1920-x-1080-px.jpg
END:VEVENT
BEGIN:VEVENT
DTSTART;TZID=America/Chicago:20260410T183000
DTEND;TZID=America/Chicago:20260410T200000
DTSTAMP:20260424T143213
CREATED:20260323T014318Z
LAST-MODIFIED:20260323T014322Z
UID:10000013-1775845800-1775851200@commonrootsrising.org
SUMMARY:Community Singing! Brilliant Bliss Mantra Music | Kirtan
DESCRIPTION:When we sing in harmony together it just plain feels GOOD! AND… it creates a unified field of purpose\, power\, and love that amplifies our connection and collective presence. Come raise your voices in song with us! \n\n\n\n\n\nSinging together helps! It helps to give emotions a safe channel for release\, it helps to uplift our tired spirits and renew our souls\, it opens the heart and calms the mind\, it creates a deeper sense of belonging and unified connection\, it brings inner-harmony. Come sing with us! We need this!! \n\n\n\nRegister HERE: https://beingcollective.us/event/kirtan-brilliant-bliss-mantra-music-journey-2/ \n\n\n\nSACRED SOUND MEDICINE FOR HEART AND SOUL ~ SING . LISTEN . BREATHE . CONNECT . BE .\n\n\n\nThese gatherings of singing ancient mantras + conscious lyrics are heart + soul medicine that support us now more than ever. Let’s GO! We need this!!You don’t have to be a singer to join us … the collective voice creates a brilliantly beautiful sound that heals the heart and uplifts the spirit! Come! \n\n\n\nAbout Our CommUNITY Mantra Music Journeys\n\n\n\nDid you know that singing in community can increase inner-peace\, uplift your mind\, open your heart + leave you feeling more connected\, centered\, and alive? \n\n\n\nJoin our Family Band — Savi\, Mark\, Deann\, Denise\, Eliana + soul family friends — for an evening of Brilliant Bliss: a participatory\, co-creative music + sound healing journey. \n\n\n\nKarli from the amazing local duo\, Natural Satellite\, will be joining us on cello. \n\n\n\nCome sing with us\, rock your body\, dance if the mood arises\, and bask in the ocean of sacred sounds and heart connection with soul family. \n\n\n\nNot a singer? No problem! Come and immerse in the sound current and BE. \n\n\n\nBrilliant Bliss Mantra Music is sacred sound medicine for heart & soul\, weaving high vibe conscious lyrics\, ancient mantras\, and earthy-cosmic grooves that embrace\, uplift\, empower & elevate! \n\n\n\nThe most important part of the band is…YOU! \n\n\n\nIt’s YOUR Presence and open heart that co-create the magic that unfolds. \n\n\n\nTHANK YOU FOR CHOOSING TO JOIN US FOR THIS COLLECTIVE SOUL-ENRICHING EXPERIENCE!\n\n\n\nWhat to Bring — \n\n\n\nParking: available in the ramp behind our building \n\n\n\nPLEASE BRING for your comfort: \n\n\n\nCushion/pillow + blanket for floor seating\, if you prefer this. We have chairs available if you prefer not to sit on the floor. \n\n\n\nWater bottle with sealable cap \n\n\n\nFlexible pricing for this event!Please choose the ticket price that works the best for you.Cash or Venmo option also available at the door. If not pre-purchasing a ticket please email us ahead of the event to let us know you will be joining us. connect@beingcollective.us.Thanks for your support! \n\n\n\nRegister HERE: https://beingcollective.us/event/kirtan-brilliant-bliss-mantra-music-journey-2/
URL:https://commonrootsrising.org/event/community-singing-brilliant-bliss-mantra-music-kirtan/
LOCATION:Being Collective\, 109 S Appleton St\, Appleton\, WI\, 54911\, United States
CATEGORIES:Music,Singing
ATTACH;FMTTYPE=image/jpeg:https://commonrootsrising.org/wp-content/uploads/2026/02/Screenshot-2026-02-06-at-10.04.20-AM.jpg
END:VEVENT
BEGIN:VEVENT
DTSTART;TZID=America/Chicago:20260411T100000
DTEND;TZID=America/Chicago:20260411T120000
DTSTAMP:20260424T143213
CREATED:20260331T024502Z
LAST-MODIFIED:20260410T132952Z
UID:10000027-1775901600-1775908800@commonrootsrising.org
SUMMARY:Politics in the Park! Theme: Local
DESCRIPTION:Politics in the Park is back for spring!We’re kicking off a new season and trying something new. \n\n\n\n\n\n\n\nEach week\, we’ll share a one-word prompt to spark conversation in our community. Think of it as a starting point: bring your own questions\, your own take\, your own topics. The prompt is just the seed\, you grow the discussion. \n\n\n\nApril’s prompts:Week 1: LocalWeek 2: EducationWeek 3: (off week)Week 4: Justice \n\n\n\nThis season we’re going deeper\, not wider. Instead of being out every day\, we’ll be at the parks twice a week\, giving us more time to develop new programs while still keeping the conversation going. You might also catch us at pop-up events and other community gatherings around Oshkosh.Week 1: Local \n\n\n\nAnd we’re not just talking about local government. Let’s talk about local media. Local problems. Local solutions. Whatever local means to you\, bring it.
URL:https://commonrootsrising.org/event/politics-in-the-park-2/
LOCATION:Opera House Square\, 315 N Main St\, Oshkosh\, Wisconsin\, 54901\, United States
CATEGORIES:Civic Engagement
ATTACH;FMTTYPE=image/jpeg:https://commonrootsrising.org/wp-content/uploads/2026/03/Screenshot-2026-03-24-at-8.40.14-AM.jpg
END:VEVENT
BEGIN:VEVENT
DTSTART;TZID=America/Chicago:20260411T120000
DTEND;TZID=America/Chicago:20260411T170000
DTSTAMP:20260424T143213
CREATED:20260331T021221Z
LAST-MODIFIED:20260406T125034Z
UID:10000025-1775908800-1775926800@commonrootsrising.org
SUMMARY:Trans Day of Visibility celebration
DESCRIPTION:Hate Free Outagamie is hosting Trans Day of Visibility celebration at the Fox Valley Unitarian Universalist Fellowship\, a community rooted in the belief that every person has inherent worth and dignity. UU congregations have long been at the forefront of LGBTQ+ inclusion and affirmation\, and The Fellowship is no exception. It is a space where all are genuinely welcome. No exceptions. No asterisks. \n\n\n\nWe believe our community deserves a space like that. \n\n\n\nJoin us April 11th\, 12–5pm at The Fellowship\, 2600 E. Philip Lane\, Appleton\, WI for a day of visibility\, joy\, and community.
URL:https://commonrootsrising.org/event/trans-day-of-visibility-celebration/
LOCATION:Wisconsin
CATEGORIES:Community Action
ATTACH;FMTTYPE=image/jpeg:https://commonrootsrising.org/wp-content/uploads/2026/03/Screenshot-2026-03-30-at-9.02.16-PM.jpg
END:VEVENT
BEGIN:VEVENT
DTSTART;TZID=America/Chicago:20260412T080000
DTEND;TZID=America/Chicago:20260412T170000
DTSTAMP:20260424T143213
CREATED:20260412T191630Z
LAST-MODIFIED:20260412T191631Z
UID:10000042-1775980800-1776013200@commonrootsrising.org
SUMMARY:Celebrate Arbor Day @ Jefferson Park
DESCRIPTION:Menasha Parks and Rec is giving you a very good excuse to play in the dirt. \n\n\n\nArbor Day is on Friday\, April 24 and we’re celebrating with a tree planting event that’s fun for the whole community— kids\, adults\, and anyone who’s ever wanted to leave their mark on this community. \n\n\n\n Come plant a tree \n\n\n\n Learn what makes our urban forest so important \n\n\n\n Meet your neighbors \n\n\n\n Get your hands a little dirty \n\n\n\nFriday\, April 24 \n\n\n\n9:00am \n\n\n\nJefferson Park
URL:https://commonrootsrising.org/event/celebrate-arbor-day-jefferson-park/
LOCATION:Jefferson Park\, 915 Third St\, Menasha\, Wisconsin\, 54911\, United States
CATEGORIES:Environment
ATTACH;FMTTYPE=image/jpeg:https://commonrootsrising.org/wp-content/uploads/2026/04/Screenshot-2026-04-12-at-2.09.29-PM.jpg
END:VEVENT
BEGIN:VEVENT
DTSTART;TZID=America/Chicago:20260412T103000
DTEND;TZID=America/Chicago:20260412T114500
DTSTAMP:20260424T143213
CREATED:20260323T021157Z
LAST-MODIFIED:20260328T031651Z
UID:10000016-1775989800-1775994300@commonrootsrising.org
SUMMARY:Soul Sound Journey with Savi + Mark | Sound Alchemy for Mind\, Body\, Spirit
DESCRIPTION:Journey with us! Rest. Reset. Restore.Soothing Sunday Soul Sound Journeys … your soul is calling. \n\n\n\nWe invite you to experience how intentionally crafted sound vibrations can give you a restful and revitalizing restorative reset. Come be cocooned in resonant waves of sonic vibrations created and inspired in the moment.  \n\n\n\nPlease Pre – Register HEREPRE – REGISTRATION appreciated due to event popularity and space availability. \n\n\n\n\n\nSavi and Mark\, your Loving Awareness Soul Sound Journey guides\, tune into the collective energy of those present to deliver a unique and immersive soundscape — bringing a field of nurturing love and healing alive in the most felt\, balancing\, and beautiful ways. \n\n\n\nImmerse Yourself in a sonic river of healing\, an ocean love with waves and waves of resonating frequency that soothe\, calm\, aid in gentle release\, and support inner peace\, balance\, and transformation. \n\n\n\nMark and Savi are seasoned Conscious Experience Guides who know how to create and hold sacred space for souls to embody authentically\, while allowing rest\, reset\, and restoration from within. \n\n\n\nSoul Sound Journeys with Savi and Mark are one of a kind (and never the same thing twice!)\, featuring a unique synergy of the following: \n\n\n\nHandpan\, Tibetan\, crystal\, and Origin Series singing bowls\, overtone flute\, drone flutes\, ocarina (clay flute)\, Nepalese bells\, Koshi chimes\, metallophones\, seed rattles\, medicine drums\, vibrational drones and harmonium\, sounding breath\, nature sounds\, intuited Light Language\, and vocal toning\, singing\, and more… \n\n\n\nAllow yourself to rest\, reset\, and restore as you receive the waves of vibrational sound medicine. \n\n\n\nThe journey comes full circle with some moments of peaceful silence before being gently guided back into the waking moment\, allowing time for reflection and integration. \n\n\n\nPlease Pre – Register HEREPRE – REGISTRATION appreciated due to event popularity and space availability. \n\n\n\nWhat To Bring: \n\n\n\nAnything that will support you in feeling comfy\, cozy\, and cocooned during the journey! \n\n\n\nSuggestions are: \n\n\n\n\nYoga Mat\, other thicker mat\n\n\n\nBlanket(s)\n\n\n\nPillow(s)\n\n\n\nSocks/Slippers\n\n\n\nEye Mask (if you want to block light\, totally optional\, listen to your inner guidance)\n\n\n\nWater bottle\n\n\n\n\nWhat to Expect: \n\n\n\n\nThe full journey from start to finish will be 75 minutes\, including introduction at the beginning and integration/reflection time at the end\n\n\n\nWe are a shoes off gathering space\, please feel free to bring slippers or cozy socks\n\n\n\nYou will be invited to lie down during the sound journey\, and you are welcome to change positions at any time for comfort. \n\n\n\nOther familiar terms you may have heard for experiences like this can be: sound bath\, sound healing\, sound therapy\, etc. We choose Soul Sound Journey and Sound Alchemy for our unique experience as it is a transformative sound vibration fusion of intuitive\, indigenous\, and ancient\, ancestral sounds and vocalizations that ‘speak to the soul’.\n\n\n\n\nWe look forward to journeying into the alchemy of sound with you! \n\n\n\nWant to Schedule a Private Group Soul Sound Journey? \n\n\n\nTo book a private Soul Sound Journey for your special group\, please reach out: \n\n\n\nconnect@beingcollective.us  \n\n\n\nPlease Pre – Register HEREPRE – REGISTRATION appreciated due to event popularity and space availability.
URL:https://commonrootsrising.org/event/soul-sound-journey-with-savi-mark-sound-alchemy-for-mind-body-spirit-2/
LOCATION:Being Collective\, 109 S Appleton St\, Appleton\, WI\, 54911\, United States
CATEGORIES:Music,WellBeing
ATTACH;FMTTYPE=image/jpeg:https://commonrootsrising.org/wp-content/uploads/2026/03/Screenshot-2025-03-26-at-1.57.02-PM.jpg
END:VEVENT
END:VCALENDAR