BEGIN:VCALENDAR
VERSION:2.0
PRODID:-//Common Roots Rising - ECPv6.15.20//NONSGML v1.0//EN
CALSCALE:GREGORIAN
METHOD:PUBLISH
X-WR-CALNAME:Common Roots Rising
X-ORIGINAL-URL:https://commonrootsrising.org
X-WR-CALDESC:Events for Common Roots Rising
REFRESH-INTERVAL;VALUE=DURATION:PT1H
X-Robots-Tag:noindex
X-PUBLISHED-TTL:PT1H
BEGIN:VTIMEZONE
TZID:America/Chicago
BEGIN:DAYLIGHT
TZOFFSETFROM:-0600
TZOFFSETTO:-0500
TZNAME:CDT
DTSTART:20250309T080000
END:DAYLIGHT
BEGIN:STANDARD
TZOFFSETFROM:-0500
TZOFFSETTO:-0600
TZNAME:CST
DTSTART:20251102T070000
END:STANDARD
BEGIN:DAYLIGHT
TZOFFSETFROM:-0600
TZOFFSETTO:-0500
TZNAME:CDT
DTSTART:20260308T080000
END:DAYLIGHT
BEGIN:STANDARD
TZOFFSETFROM:-0500
TZOFFSETTO:-0600
TZNAME:CST
DTSTART:20261101T070000
END:STANDARD
BEGIN:DAYLIGHT
TZOFFSETFROM:-0600
TZOFFSETTO:-0500
TZNAME:CDT
DTSTART:20270314T080000
END:DAYLIGHT
BEGIN:STANDARD
TZOFFSETFROM:-0500
TZOFFSETTO:-0600
TZNAME:CST
DTSTART:20271107T070000
END:STANDARD
END:VTIMEZONE
BEGIN:VEVENT
DTSTART;TZID=America/Chicago:20260214T000000
DTEND;TZID=America/Chicago:20260214T124500
DTSTAMP:20260425T105713
CREATED:20260203T162630Z
LAST-MODIFIED:20260203T162632Z
UID:10000004-1771027200-1771073100@commonrootsrising.org
SUMMARY:Flow Love | World Sound Healing Day Sound Journey
DESCRIPTION:Flow Love on World Sound Healing Day! Let yourSelf receive this intuitively co-created flow of Healing Sounds encoded with the frequencies of Love & Compassion … as we ripple the waves out to the whole world. FLOW LOVE with us! \n\n\n\n\n\nJourney with us! Rest. Reset. Restore.Soothing Soul Sound Journeys … your soul is calling. \n\n\n\nWe invite you to experience how intentionally crafted sound vibrations can give you a restful and revitalizing restorative reset. Come be cocooned in resonant waves of sonic vibrations created and inspired in the moment.  \n\n\n\nPlease Pre – Register at Being Collective HERE \n\n\n\nPRE – REGISTRATION appreciated due to event popularity and space availability.
URL:https://commonrootsrising.org/event/flow-love-world-sound-healing-day-sound-journey/
LOCATION:Being Collective\, 109 S Appleton St\, Appleton\, WI\, 54911\, United States
CATEGORIES:Music,WellBeing
ATTACH;FMTTYPE=image/jpeg:https://commonrootsrising.org/wp-content/uploads/2026/02/Screenshot-2026-01-30-at-10.46.58-AM.jpg
END:VEVENT
BEGIN:VEVENT
DTSTART;TZID=America/Chicago:20260206T183000
DTEND;TZID=America/Chicago:20260206T200000
DTSTAMP:20260425T105713
CREATED:20260128T210453Z
LAST-MODIFIED:20260203T163011Z
UID:10000001-1770402600-1770408000@commonrootsrising.org
SUMMARY:Kirtan! Brilliant Bliss Mantra Music Journey
DESCRIPTION:When we sing in harmony together it just plain feels GOOD! AND… it creates a unified field of purpose\, power\, and love that amplifies our connection and collective presence. Come raise your voices in song with us!
URL:https://commonrootsrising.org/event/kirtan-brilliant-bliss-mantra-music-journey/
LOCATION:Being Collective\, 109 S Appleton St\, Appleton\, WI\, 54911\, United States
CATEGORIES:Music,WellBeing
ATTACH;FMTTYPE=image/jpeg:https://commonrootsrising.org/wp-content/uploads/2026/01/Screenshot-2026-01-30-at-10.19.51-AM.jpg
END:VEVENT
END:VCALENDAR