BEGIN:VCALENDAR
VERSION:2.0
PRODID:-//Common Roots Rising - ECPv6.15.20//NONSGML v1.0//EN
CALSCALE:GREGORIAN
METHOD:PUBLISH
X-WR-CALNAME:Common Roots Rising
X-ORIGINAL-URL:https://commonrootsrising.org
X-WR-CALDESC:Events for Common Roots Rising
REFRESH-INTERVAL;VALUE=DURATION:PT1H
X-Robots-Tag:noindex
X-PUBLISHED-TTL:PT1H
BEGIN:VTIMEZONE
TZID:America/Chicago
BEGIN:DAYLIGHT
TZOFFSETFROM:-0600
TZOFFSETTO:-0500
TZNAME:CDT
DTSTART:20250309T080000
END:DAYLIGHT
BEGIN:STANDARD
TZOFFSETFROM:-0500
TZOFFSETTO:-0600
TZNAME:CST
DTSTART:20251102T070000
END:STANDARD
BEGIN:DAYLIGHT
TZOFFSETFROM:-0600
TZOFFSETTO:-0500
TZNAME:CDT
DTSTART:20260308T080000
END:DAYLIGHT
BEGIN:STANDARD
TZOFFSETFROM:-0500
TZOFFSETTO:-0600
TZNAME:CST
DTSTART:20261101T070000
END:STANDARD
BEGIN:DAYLIGHT
TZOFFSETFROM:-0600
TZOFFSETTO:-0500
TZNAME:CDT
DTSTART:20270314T080000
END:DAYLIGHT
BEGIN:STANDARD
TZOFFSETFROM:-0500
TZOFFSETTO:-0600
TZNAME:CST
DTSTART:20271107T070000
END:STANDARD
END:VTIMEZONE
BEGIN:VEVENT
DTSTART;TZID=America/Chicago:20260628T090000
DTEND;TZID=America/Chicago:20260628T170000
DTSTAMP:20260425T063316
CREATED:20260128T212805Z
LAST-MODIFIED:20260203T161748Z
UID:10000003-1782637200-1782666000@commonrootsrising.org
SUMMARY:Mandala Yoga Festival
DESCRIPTION:The Mandala Yoga Festival is a vibrant\, all-day event open to the community\, celebrating the diverse expressions of yoga and wellness. This free festival invites participants to explore various styles and disciplines\, fostering a spirit of connection and inspiration.
URL:https://commonrootsrising.org/event/mandala-yoga-festival/
LOCATION:Pierce Park\, 1035 W. Prospect Ave\, Appleton\, WI\, 54911\, United States
CATEGORIES:Festival,Music,WellBeing
ATTACH;FMTTYPE=image/png:https://commonrootsrising.org/wp-content/uploads/2026/01/Screenshot-2025-05-20-at-9.02.44-AM.png
END:VEVENT
BEGIN:VEVENT
DTSTART;TZID=America/Chicago:20260912T120000
DTEND;TZID=America/Chicago:20260912T160000
DTSTAMP:20260425T063316
CREATED:20260128T211556Z
LAST-MODIFIED:20260227T134114Z
UID:10000002-1789214400-1789228800@commonrootsrising.org
SUMMARY:World Peace Festival at Pierce Park
DESCRIPTION:What is World Peace Festival Fox Cities?\n\n\nThe World Peace Festival brings together people of all ages for a day of celebration\, reflection and collective hope for a more peaceful world.\n\n\n\nMission Statement: Inspired by the U.N. International Day of Peace\, our World Peace Festival isrooted in the belief that peace begins within and expands outward through conscious action\,shared understanding\, and loving connection. \nVision Statement: We are growing a community rooted in peace and love within a welcomingspace where diversity is honored\, hope is cultivated\, and peace is nurtured.
URL:https://commonrootsrising.org/event/world-peace-festival-at-pierce-park/
LOCATION:Pierce Park\, 1035 W. Prospect Ave\, Appleton\, WI\, 54911\, United States
CATEGORIES:Festival,Music
ATTACH;FMTTYPE=image/jpeg:https://commonrootsrising.org/wp-content/uploads/2026/01/Screenshot-2026-02-27-at-7.39.02-AM.jpg
END:VEVENT
END:VCALENDAR