BEGIN:VCALENDAR
VERSION:2.0
PRODID:-//Common Roots Rising - ECPv6.15.20//NONSGML v1.0//EN
CALSCALE:GREGORIAN
METHOD:PUBLISH
X-WR-CALNAME:Common Roots Rising
X-ORIGINAL-URL:https://commonrootsrising.org
X-WR-CALDESC:Events for Common Roots Rising
REFRESH-INTERVAL;VALUE=DURATION:PT1H
X-Robots-Tag:noindex
X-PUBLISHED-TTL:PT1H
BEGIN:VTIMEZONE
TZID:America/Chicago
BEGIN:DAYLIGHT
TZOFFSETFROM:-0600
TZOFFSETTO:-0500
TZNAME:CDT
DTSTART:20250309T080000
END:DAYLIGHT
BEGIN:STANDARD
TZOFFSETFROM:-0500
TZOFFSETTO:-0600
TZNAME:CST
DTSTART:20251102T070000
END:STANDARD
BEGIN:DAYLIGHT
TZOFFSETFROM:-0600
TZOFFSETTO:-0500
TZNAME:CDT
DTSTART:20260308T080000
END:DAYLIGHT
BEGIN:STANDARD
TZOFFSETFROM:-0500
TZOFFSETTO:-0600
TZNAME:CST
DTSTART:20261101T070000
END:STANDARD
BEGIN:DAYLIGHT
TZOFFSETFROM:-0600
TZOFFSETTO:-0500
TZNAME:CDT
DTSTART:20270314T080000
END:DAYLIGHT
BEGIN:STANDARD
TZOFFSETFROM:-0500
TZOFFSETTO:-0600
TZNAME:CST
DTSTART:20271107T070000
END:STANDARD
END:VTIMEZONE
BEGIN:VEVENT
DTSTART;TZID=America/Chicago:20260428T160000
DTEND;TZID=America/Chicago:20260428T180000
DTSTAMP:20260424T114500
CREATED:20260412T192734Z
LAST-MODIFIED:20260412T192737Z
UID:10000043-1777392000-1777399200@commonrootsrising.org
SUMMARY:Politics In the Park! Theme: Justice
DESCRIPTION:Politics in the Park is back for spring!We’re kicking off a new season and trying something new. \n\n\n\n\n\n\n\nEach week\, we’ll share a one-word prompt to spark conversation in our community. Think of it as a starting point: bring your own questions\, your own take\, your own topics. The prompt is just the seed\, you grow the discussion. \n\n\n\nApril’s prompts:Week 1: LocalWeek 2: EducationWeek 3: (off week)Week 4: Justice \n\n\n\nThis season we’re going deeper\, not wider. Instead of being out every day\, we’ll be at the parks twice a week\, giving us more time to develop new programs while still keeping the conversation going. You might also catch us at pop-up events and other community gatherings around Oshkosh.
URL:https://commonrootsrising.org/event/politics-in-the-park-theme-justice/
LOCATION:Wisconsin
CATEGORIES:Civic Engagement
ATTACH;FMTTYPE=image/jpeg:https://commonrootsrising.org/wp-content/uploads/2026/03/Screenshot-2026-03-24-at-7.52.57-AM.jpg
END:VEVENT
END:VCALENDAR