BEGIN:VCALENDAR
VERSION:2.0
PRODID:-//Common Roots Rising - ECPv6.15.20//NONSGML v1.0//EN
CALSCALE:GREGORIAN
METHOD:PUBLISH
X-WR-CALNAME:Common Roots Rising
X-ORIGINAL-URL:https://commonrootsrising.org
X-WR-CALDESC:Events for Common Roots Rising
REFRESH-INTERVAL;VALUE=DURATION:PT1H
X-Robots-Tag:noindex
X-PUBLISHED-TTL:PT1H
BEGIN:VTIMEZONE
TZID:America/Chicago
BEGIN:DAYLIGHT
TZOFFSETFROM:-0600
TZOFFSETTO:-0500
TZNAME:CDT
DTSTART:20250309T080000
END:DAYLIGHT
BEGIN:STANDARD
TZOFFSETFROM:-0500
TZOFFSETTO:-0600
TZNAME:CST
DTSTART:20251102T070000
END:STANDARD
BEGIN:DAYLIGHT
TZOFFSETFROM:-0600
TZOFFSETTO:-0500
TZNAME:CDT
DTSTART:20260308T080000
END:DAYLIGHT
BEGIN:STANDARD
TZOFFSETFROM:-0500
TZOFFSETTO:-0600
TZNAME:CST
DTSTART:20261101T070000
END:STANDARD
BEGIN:DAYLIGHT
TZOFFSETFROM:-0600
TZOFFSETTO:-0500
TZNAME:CDT
DTSTART:20270314T080000
END:DAYLIGHT
BEGIN:STANDARD
TZOFFSETFROM:-0500
TZOFFSETTO:-0600
TZNAME:CST
DTSTART:20271107T070000
END:STANDARD
END:VTIMEZONE
BEGIN:VEVENT
DTSTART;TZID=America/Chicago:20260422T100000
DTEND;TZID=America/Chicago:20260422T150000
DTSTAMP:20260424T115329
CREATED:20260412T015710Z
LAST-MODIFIED:20260412T015816Z
UID:10000036-1776852000-1776870000@commonrootsrising.org
SUMMARY:Earth Day Sustainability Fair
DESCRIPTION:Community organizations and student orgs will be tabling in Reeve — learn about what is going on on campus as well as how to live more sustainability – some groups included will be Winnebago Bicycle shop and Outagamie County Recycling!
URL:https://commonrootsrising.org/event/earth-day-sustainability-fair/
LOCATION:Reeve Union\, 748 Algoma Blvd
CATEGORIES:Environment
ATTACH;FMTTYPE=image/jpeg:https://commonrootsrising.org/wp-content/uploads/2026/04/Screenshot-2026-04-11-at-8.42.17-PM.jpg
END:VEVENT
BEGIN:VEVENT
DTSTART;TZID=America/Chicago:20260422T110000
DTEND;TZID=America/Chicago:20260422T130000
DTSTAMP:20260424T115329
CREATED:20260416T130916Z
LAST-MODIFIED:20260416T130918Z
UID:10000046-1776855600-1776862800@commonrootsrising.org
SUMMARY:Walk in Wednesday | Multicultural Coalition
DESCRIPTION:Walk In Wednesdays + Bodega Free Store\n\n\n\nA bodega is a convenient little corner shop\, and Multicultural Coalition’s  is free to the community.   Walk In Wednesdays happen 2x per month  \n\n\n\nMulticultural Coalition333 1st Suite D St Menasha\, WI \n\n\n\n\n\n\n\nMulticultural Coalition\, a 501c3\, is here to serve our community members and provides access to basic needs while also addressing ways we can do better as a community to overcome language\, systems\, transportation\, employment\, housing and other barriers as identified by those we serve. \n\n\n\nMCI pulls together a vast network of trusted community members and organizations to meet people where they are. We are part of a growing community network to meet the needs of the people through action\, social connectedness and trust … where and how each person experiences belonging.  \n\n\n\nThrough our in-person support and navigation\, we strive to create a sense of safety\, connection and belonging. Now more than ever\, many individuals face loneliness\, isolation and complex challenges. We recognize these struggles and are here to support each person on their journey.
URL:https://commonrootsrising.org/event/walk-in-wednesday-multicultural-coalition/2026-04-22/
LOCATION:Multicultural Coalition\, 333 1st st\, Menasha\, Wisconsin\, 54952\, United States
CATEGORIES:Mutual Aid
ATTACH;FMTTYPE=image/png:https://commonrootsrising.org/wp-content/uploads/2026/04/Screenshot-2026-04-16-at-7.54.08-AM.png
END:VEVENT
BEGIN:VEVENT
DTSTART;TZID=America/Chicago:20260422T163000
DTEND;TZID=America/Chicago:20260422T180000
DTSTAMP:20260424T115329
CREATED:20260416T114150Z
LAST-MODIFIED:20260416T114155Z
UID:10000045-1776875400-1776880800@commonrootsrising.org
SUMMARY:The Asian-Latino Borderlands w/ Dr. Lucero Estrella
DESCRIPTION:Dr. Lucero Estrella\, Assistant Professor of Ethnic Studies at Lawrence University\, joins WALC’s Immigration Learning Circle to educate us more on the Asian-Latino border. \n\n\n\nWhen we hear about the U.S.-Mexico border\, we rarely hear about the Asian migrants and Asian-Latino communities that have lived in those regions. Why have these histories been erased? Whose responsibility is it to share these stories? Dr. Estrella’s collaborations with the Asian-Latino communities across northern Mexico and Texas show that these communities have worked hard to preserve and tell the lesser-known histories of the Asian-Latino Borderlands. \n\n\n\nRegister here
URL:https://commonrootsrising.org/event/the-asian-latino-borderlands-w-dr-lucero-estrella/
LOCATION:Wisconsin
CATEGORIES:Education
ATTACH;FMTTYPE=image/jpeg:https://commonrootsrising.org/wp-content/uploads/2026/04/Screenshot-2026-04-16-at-6.40.25-AM.jpg
END:VEVENT
END:VCALENDAR