BEGIN:VCALENDAR
VERSION:2.0
PRODID:-//Common Roots Rising - ECPv6.15.20//NONSGML v1.0//EN
CALSCALE:GREGORIAN
METHOD:PUBLISH
X-ORIGINAL-URL:https://commonrootsrising.org
X-WR-CALDESC:Events for Common Roots Rising
REFRESH-INTERVAL;VALUE=DURATION:PT1H
X-Robots-Tag:noindex
X-PUBLISHED-TTL:PT1H
BEGIN:VTIMEZONE
TZID:America/Chicago
BEGIN:DAYLIGHT
TZOFFSETFROM:-0600
TZOFFSETTO:-0500
TZNAME:CDT
DTSTART:20250309T080000
END:DAYLIGHT
BEGIN:STANDARD
TZOFFSETFROM:-0500
TZOFFSETTO:-0600
TZNAME:CST
DTSTART:20251102T070000
END:STANDARD
BEGIN:DAYLIGHT
TZOFFSETFROM:-0600
TZOFFSETTO:-0500
TZNAME:CDT
DTSTART:20260308T080000
END:DAYLIGHT
BEGIN:STANDARD
TZOFFSETFROM:-0500
TZOFFSETTO:-0600
TZNAME:CST
DTSTART:20261101T070000
END:STANDARD
BEGIN:DAYLIGHT
TZOFFSETFROM:-0600
TZOFFSETTO:-0500
TZNAME:CDT
DTSTART:20270314T080000
END:DAYLIGHT
BEGIN:STANDARD
TZOFFSETFROM:-0500
TZOFFSETTO:-0600
TZNAME:CST
DTSTART:20271107T070000
END:STANDARD
END:VTIMEZONE
BEGIN:VEVENT
DTSTART;TZID=America/Chicago:20260419T110000
DTEND;TZID=America/Chicago:20260419T130000
DTSTAMP:20260424T114223
CREATED:20260406T140758Z
LAST-MODIFIED:20260406T140801Z
UID:10000032-1776596400-1776603600@commonrootsrising.org
SUMMARY:Basic Hand Sewing Workshop
DESCRIPTION:Learn Basic Hand Sewing on April 19th. Registration required. Sign up at https://oshkoshtoollibrary.neocities.org/learn
URL:https://commonrootsrising.org/event/basic-hand-sewing-workshop/
LOCATION:Wisconsin
CATEGORIES:Education
ATTACH;FMTTYPE=image/jpeg:https://commonrootsrising.org/wp-content/uploads/2026/03/Screenshot-2026-03-24-at-1.36.41-PM.jpg
END:VEVENT
BEGIN:VEVENT
DTSTART;TZID=America/Chicago:20260419T140000
DTEND;TZID=America/Chicago:20260419T150000
DTSTAMP:20260424T114223
CREATED:20260412T120845Z
LAST-MODIFIED:20260412T120918Z
UID:10000040-1776607200-1776610800@commonrootsrising.org
SUMMARY:Breaking the Ice Forum
DESCRIPTION:“Breaking the Ice” a Forum has been created by a local organization called “Ice out Baby” in conjunction with Voces de la Frontera (an immigration rights organization from Milwaukee). Voces de la Frontera will speak about ICE in Wisconsin along with speakers from a Fox Valley Spiritual Leaders group on creating community action for undocumented Immigrants.There will be a special memorial also held for Alex Pretti\, Renee Good and others who have died in the hands of ICE.This Forum will be held Sunday\, April 19 from 2:00-3:30 p.m. at Fox Valley Unitarian Universalist Fellowship located at 2600 Philip Ln\, Appleton.
URL:https://commonrootsrising.org/event/breaking-the-ice-forum/
LOCATION:Wisconsin
CATEGORIES:Community Action
ATTACH;FMTTYPE=image/jpeg:https://commonrootsrising.org/wp-content/uploads/2026/04/Screenshot-2026-04-12-at-7.05.12-AM.jpg
END:VEVENT
END:VCALENDAR