BEGIN:VCALENDAR
VERSION:2.0
PRODID:-//Common Roots Rising - ECPv6.15.20//NONSGML v1.0//EN
CALSCALE:GREGORIAN
METHOD:PUBLISH
X-WR-CALNAME:Common Roots Rising
X-ORIGINAL-URL:https://commonrootsrising.org
X-WR-CALDESC:Events for Common Roots Rising
REFRESH-INTERVAL;VALUE=DURATION:PT1H
X-Robots-Tag:noindex
X-PUBLISHED-TTL:PT1H
BEGIN:VTIMEZONE
TZID:America/Chicago
BEGIN:DAYLIGHT
TZOFFSETFROM:-0600
TZOFFSETTO:-0500
TZNAME:CDT
DTSTART:20250309T080000
END:DAYLIGHT
BEGIN:STANDARD
TZOFFSETFROM:-0500
TZOFFSETTO:-0600
TZNAME:CST
DTSTART:20251102T070000
END:STANDARD
BEGIN:DAYLIGHT
TZOFFSETFROM:-0600
TZOFFSETTO:-0500
TZNAME:CDT
DTSTART:20260308T080000
END:DAYLIGHT
BEGIN:STANDARD
TZOFFSETFROM:-0500
TZOFFSETTO:-0600
TZNAME:CST
DTSTART:20261101T070000
END:STANDARD
BEGIN:DAYLIGHT
TZOFFSETFROM:-0600
TZOFFSETTO:-0500
TZNAME:CDT
DTSTART:20270314T080000
END:DAYLIGHT
BEGIN:STANDARD
TZOFFSETFROM:-0500
TZOFFSETTO:-0600
TZNAME:CST
DTSTART:20271107T070000
END:STANDARD
END:VTIMEZONE
BEGIN:VEVENT
DTSTART;TZID=America/Chicago:20260414T180000
DTEND;TZID=America/Chicago:20260414T190000
DTSTAMP:20260424T114039
CREATED:20260409T212806Z
LAST-MODIFIED:20260410T133803Z
UID:10000033-1776189600-1776193200@commonrootsrising.org
SUMMARY:Recycle Right
DESCRIPTION:Local recycling aces will share their knowledge to help take some of the mystery out of what to toss into that curbside bin. Get ready for tips\, how-tos and resources designed to help you make a positive impact on the environment. 
URL:https://commonrootsrising.org/event/recycle-right/
LOCATION:Oshkosh Public Library\, 106 Washington Ave\, Oshkosh\, Wisconsin\, 54901
CATEGORIES:Environment
ATTACH;FMTTYPE=image/jpeg:https://commonrootsrising.org/wp-content/uploads/2026/04/GetImage.jpeg
END:VEVENT
BEGIN:VEVENT
DTSTART;TZID=America/Chicago:20260414T180000
DTEND;TZID=America/Chicago:20260414T200000
DTSTAMP:20260424T114039
CREATED:20260409T213916Z
LAST-MODIFIED:20260410T133633Z
UID:10000034-1776189600-1776196800@commonrootsrising.org
SUMMARY:Meeting to plan Midwest Crane Count
DESCRIPTION:The International Crane Foundation is sponsoring the 50th Annual Midwest Crane Count on April 18 from 5:30 am – 7:30 pm. More than 2\,000 volunteer participants from throughout Wisconsin and portions of Illinois\, Indiana\, Iowa\, Michigan\, Ohio and Minnesota participate in the spring survey\, which gathers information on the abundance and distribution of cranes in the upper Midwest.  \n\n\n\nNew volunteers interested in taking part in the survey should contact their local county coordinator for instructions as soon as possible. If you want to count in Winnebago County\, please contact Evelyn Meuret of Winnebago Audubon who serves as our county coordinator. Contact Evelyn at 920-573-7828 or evelynmeuret57@att.net. Additional information on the crane count can be found at cranecount.org. 
URL:https://commonrootsrising.org/event/meeting-to-plan-midwest-crane-count/
LOCATION:Oshkosh Food Co-op Community Room\, 155 Jackson St #101\, Oshkosh\, Wisconsin\, 54901\, United States
CATEGORIES:Environment
ATTACH;FMTTYPE=image/jpeg:https://commonrootsrising.org/wp-content/uploads/2026/04/GetImage1.jpeg
END:VEVENT
END:VCALENDAR